BEGIN:VCALENDAR
VERSION:2.0
PRODID:-//Place au vélo Angers - ECPv6.15.20//NONSGML v1.0//EN
CALSCALE:GREGORIAN
METHOD:PUBLISH
X-ORIGINAL-URL:https://placeauveloangers.fr
X-WR-CALDESC:Évènements pour Place au vélo Angers
REFRESH-INTERVAL;VALUE=DURATION:PT1H
X-Robots-Tag:noindex
X-PUBLISHED-TTL:PT1H
BEGIN:VTIMEZONE
TZID:Europe/Paris
BEGIN:DAYLIGHT
TZOFFSETFROM:+0100
TZOFFSETTO:+0200
TZNAME:CEST
DTSTART:20240331T010000
END:DAYLIGHT
BEGIN:STANDARD
TZOFFSETFROM:+0200
TZOFFSETTO:+0100
TZNAME:CET
DTSTART:20241027T010000
END:STANDARD
BEGIN:DAYLIGHT
TZOFFSETFROM:+0100
TZOFFSETTO:+0200
TZNAME:CEST
DTSTART:20250330T010000
END:DAYLIGHT
BEGIN:STANDARD
TZOFFSETFROM:+0200
TZOFFSETTO:+0100
TZNAME:CET
DTSTART:20251026T010000
END:STANDARD
BEGIN:DAYLIGHT
TZOFFSETFROM:+0100
TZOFFSETTO:+0200
TZNAME:CEST
DTSTART:20260329T010000
END:DAYLIGHT
BEGIN:STANDARD
TZOFFSETFROM:+0200
TZOFFSETTO:+0100
TZNAME:CET
DTSTART:20261025T010000
END:STANDARD
END:VTIMEZONE
BEGIN:VEVENT
DTSTART;TZID=Europe/Paris:20250504T100000
DTEND;TZID=Europe/Paris:20250504T180000
DTSTAMP:20260419T210423
CREATED:20250422T212923Z
LAST-MODIFIED:20250422T212941Z
UID:30191-1746352800-1746381600@placeauveloangers.fr
SUMMARY:4 Mai 2025 [MARQUAGE & ATELIER] Avrillé O Grand Air
DESCRIPTION:Notre association sera le dimanche 4 mai 2025 à Avrillé pour O Grand Air afin de graver vos vélos contre le vol (gratuit pour les habitants de l’agglo) et pour vous aider sur vos petites réparations sur vélo.
URL:https://placeauveloangers.fr/event/4-mai-2025-marquage-atelier-avrille-o-grand-air/
LOCATION:3 Avenue de la Ronde\, 3 Avenue de la Ronde\, Avrillé\, France
CATEGORIES:Atelier Co-Réparations,Atelier Marquage
END:VEVENT
END:VCALENDAR