BEGIN:VCALENDAR
VERSION:2.0
PRODID:-//Place au vélo Angers - ECPv6.15.20//NONSGML v1.0//EN
CALSCALE:GREGORIAN
METHOD:PUBLISH
X-WR-CALNAME:Place au vélo Angers
X-ORIGINAL-URL:https://placeauveloangers.fr
X-WR-CALDESC:Évènements pour Place au vélo Angers
REFRESH-INTERVAL;VALUE=DURATION:PT1H
X-Robots-Tag:noindex
X-PUBLISHED-TTL:PT1H
BEGIN:VTIMEZONE
TZID:Europe/Paris
BEGIN:DAYLIGHT
TZOFFSETFROM:+0100
TZOFFSETTO:+0200
TZNAME:CEST
DTSTART:20250330T010000
END:DAYLIGHT
BEGIN:STANDARD
TZOFFSETFROM:+0200
TZOFFSETTO:+0100
TZNAME:CET
DTSTART:20251026T010000
END:STANDARD
BEGIN:DAYLIGHT
TZOFFSETFROM:+0100
TZOFFSETTO:+0200
TZNAME:CEST
DTSTART:20260329T010000
END:DAYLIGHT
BEGIN:STANDARD
TZOFFSETFROM:+0200
TZOFFSETTO:+0100
TZNAME:CET
DTSTART:20261025T010000
END:STANDARD
BEGIN:DAYLIGHT
TZOFFSETFROM:+0100
TZOFFSETTO:+0200
TZNAME:CEST
DTSTART:20270328T010000
END:DAYLIGHT
BEGIN:STANDARD
TZOFFSETFROM:+0200
TZOFFSETTO:+0100
TZNAME:CET
DTSTART:20271031T010000
END:STANDARD
END:VTIMEZONE
BEGIN:VEVENT
DTSTART;VALUE=DATE:20260426
DTEND;VALUE=DATE:20260427
DTSTAMP:20260426T022833
CREATED:20260415T230228Z
LAST-MODIFIED:20260415T230228Z
UID:31211-1777161600-1777247999@placeauveloangers.fr
SUMMARY:Vélorution à Bouchemaine et Fête du Vélobus
DESCRIPTION:Bouchemaine à Vélo fête son Vélobus & inaugure 3 lignes pour l’école du Château ! \n2 ans après le lancement des 2 lignes du Petit Vivier\, Bouchemaine à Vélo\, soutenue par la commune\, inaugure 3 lignes à destination de l’école du Château. Pour marquer cette nouvelle étape et célébrer l’anniversaire du Vélobus\, un événement festif ouvert à tous est organisé le dimanche 26 avril 2026. \n🚲 15h30 : la grande Vélorution de Bouchemaine \nRdv au point de départ de la ligne de votre choix pour rejoindre l’école du Château. Venez nombreux\, déguisés et en musique !  \n\nVal de Maine : à la salle du Val de Maine\nLa Croisette : Terrain de tennis\, angle rues Pervenche et Stellaire\nLa Pointe : à Chantourteau\nArtaud : au skatepark\n\n🎈16h : Animations vélo & goûter partagé \nRegroupement au Parc devant l’école du Château : ateliers Repair’ vélo avec ACDC\, sécurité et prévention\, information sur les lignes vélobus\, goûter partagé. \nUn événement ouvert à tous : parents\, enfants\, amoureux du vélo… venez nombreux  \nQu’est ce qu’un VELOBUS ? \nUn Vélobus est un groupe d’élèves qui parcourent le même itinéraire à vélo pour se rendre à l’école\, en toute sécurité grâce à la surveillance de plusieurs adultes formés et certifiés. Les lignes sont ouvertes 1 à 2 fois par semaine (mardi et/ou vendredi). Inscription et organisation hebdomadaire par Wattsapp (confirmer\, annuler\, discuter entre parents). Chaque ligne est accompagnée par des parents formés.  \nLes avantages du vélobus sont nombreux : Gagner en autonomie ; Pratiquer une activité physique régulière ; Améliorer la sécurité des élèves ; Prévention Sécurité Routière ; Alléger le trafic routier local\, limiter les embouteillages aux abords de l’école ; Améliorer la qualité de l’air ; Réduire les émissions de CO2. Et surtout démocratiser l’usage du vélo dès le plus jeune âge !  \nGroupe Whatsapp Bouchemaine à Vélo : https://chat.whatsapp.com/EPgfKM2iPMt9F0jtBSR9Th \n2026_Fête du Vélobus_compressed \n 
URL:https://placeauveloangers.fr/event/velorution-a-bouchemaine-et-fete-du-velobus/
LOCATION:Bouchemaine\, Bouchemaine
END:VEVENT
BEGIN:VEVENT
DTSTART;TZID=Europe/Paris:20260426T093000
DTEND;TZID=Europe/Paris:20260426T123000
DTSTAMP:20260426T022833
CREATED:20260416T080556Z
LAST-MODIFIED:20260416T080556Z
UID:31215-1777195800-1777206600@placeauveloangers.fr
SUMMARY:26/04/2026 - Sortie vélo - Découverte Paysanature\, jardins partagés et Serre en Mouvement
DESCRIPTION:Bonjour\, \nClimax/Odysserre n’étant pas encore ouvert (on espère pouvoir le visiter l’année prochaine) et Vigne en ville n’étant ouvert que l’après-midi\, nous vous proposons le circuit suivant : \n\nDépart 9h30 Jardin du Mail et 2\,2 km (10 mn)\n10h : découverte Paysanature chez Pépina rue Guillaume Lekeu\n10h30 : 6 km (22 mn)\n11h : découverte Jardin partagé du Petit Pouillé aux Ponts de Cé (6 km\, 22 mn)\n11h30 : 4 km (17 mn)\n12 h : découverte Serre en Mouvement\n12h30 – 13h : retour à Angers au local de Place au vélo (4\,5 km\, 20mn).\n\nLe groupe de cyclistes est composé en général de 20 à 25 personnes. \nS’il y a des difficultés particulières\, merci de nous le signaler. \nBonne journée. \n  \nJean-Marc \nPour PAV Angers \nTél. 06 72 96 56 60
URL:https://placeauveloangers.fr/event/26-04-2026-sortie-velo-decouverte-paysanature-jardins-partages-et-serre-en-mouvement/
LOCATION:Jardin du Mail Angers\, Jardin du Mail\, Angers\, 49000\, France
ORGANIZER;CN="Place au V%C3%A9lo Angers":MAILTO:contact@placeauveloangers.fr
END:VEVENT
END:VCALENDAR